
BEGIN:VCALENDAR
VERSION:2.0
PRODID:-//MarkedsPartner AS//Umbraco CMS//NO
TIMEZONE-ID:Europe/Oslo
X-WR-TIMEZONE:Europe/Oslo


BEGIN:VEVENT
UID:18e1a2d92a574bee8725d0f041f2951a
URL:https://umbraco.naeringsforeningen.no/moeter/arkiv/god-morgen-ryfylke-100621/
ORGANIZER;CN=Ola Normann:MAILTO:ola.normann@markedspartner.no
DTSTAMP:20210610T054500Z
DTSTART:20210610T054500Z
DTEND:20210610T080000Z
LAST-MODIFIED:20221031T122051Z
SUMMARY:God morgen Ryfylke
DESCRIPTION:Bli med og få en hyggelig morgenstund med næringslivet i Ryfylke. Endelig skrur vi av digitale plattformer og treffes til nydelig frokost og godt selskap på ...
X-ALT-DESC:Bli med og f&#229; en hyggelig morgenstund med n&#230;ringslivet i Ryfylke. Endelig skrur vi av digitale plattformer og treffes til nydelig frokost og godt selskap p&#229; ...
LOCATION:
END:VEVENT


END:VCALENDAR



