
BEGIN:VCALENDAR
VERSION:2.0
PRODID:-//MarkedsPartner AS//Umbraco CMS//NO
TIMEZONE-ID:Europe/Oslo
X-WR-TIMEZONE:Europe/Oslo


BEGIN:VEVENT
UID:dc7fd11390954905a42f5bf292973fef
URL:https://umbraco.naeringsforeningen.no/moeter/arkiv/global-handel-og-risiko-med-utenriksministeren/
ORGANIZER;CN=Ola Normann:MAILTO:ola.normann@markedspartner.no
DTSTAMP:20200207T073000Z
DTSTART:20200207T073000Z
DTEND:20200207T093000Z
LAST-MODIFIED:20221031T115956Z
SUMMARY:Global handel og risiko med utenriksministeren
DESCRIPTION:Vi tar pulsen på den globale handelen og konsekvensene som kan komme nå som Storbritannia er ute av EU. Denne morgenen får du et nært møte med Norges utenriksminister, Ine Eriksen Søreide og sjefsøkonom i DNB Markets, Kjersti Haugland.
X-ALT-DESC:Vi tar pulsen p&#229; den globale handelen og konsekvensene som kan komme n&#229; som Storbritannia er ute av EU. Denne morgenen f&#229;r du et n&#230;rt m&#248;te med Norges utenriksminister, Ine Eriksen S&#248;reide og sjefs&#248;konom i DNB Markets, Kjersti Haugland.
LOCATION:Rosenkildehuset
END:VEVENT


END:VCALENDAR



