
BEGIN:VCALENDAR
VERSION:2.0
PRODID:-//MarkedsPartner AS//Umbraco CMS//NO
TIMEZONE-ID:Europe/Oslo
X-WR-TIMEZONE:Europe/Oslo


BEGIN:VEVENT
UID:022a225fd4e9442e80255335d4685c90
URL:https://umbraco.naeringsforeningen.no/moeter/arkiv/giljebesoek-300322/
ORGANIZER;CN=Ola Normann:MAILTO:ola.normann@markedspartner.no
DTSTAMP:20220330T100000Z
DTSTART:20220330T100000Z
DTEND:20220330T123000Z
LAST-MODIFIED:20221031T122433Z
SUMMARY:Leanbesøk til Gilje Tre
DESCRIPTION:Bli med på besøk og lær av en av landets fremste Lean-bedrifter; Gilje Tre!
X-ALT-DESC:Bli med p&#229; bes&#248;k og l&#230;r av en av landets fremste Lean-bedrifter; Gilje Tre!
LOCATION:Gilje Tre, Dirdal
END:VEVENT


END:VCALENDAR



