
BEGIN:VCALENDAR
VERSION:2.0
PRODID:-//MarkedsPartner AS//Umbraco CMS//NO
TIMEZONE-ID:Europe/Oslo
X-WR-TIMEZONE:Europe/Oslo


BEGIN:VEVENT
UID:cee0c385c8ae4d85ba6f9aa9bf5e87b8
URL:https://umbraco.naeringsforeningen.no/moeter/arkiv/generalforsamling_230420/
ORGANIZER;CN=Ola Normann:MAILTO:ola.normann@markedspartner.no
DTSTAMP:20200423T163000Z
DTSTART:20200423T163000Z
DTEND:20200423T210000Z
LAST-MODIFIED:20221031T120713Z
SUMMARY:Generalforsamling 2020
DESCRIPTION:UTSATT. NY DATO KOMMER. Velkommen til årets generalforsamling i Næringsforeningen!
X-ALT-DESC:UTSATT. NY DATO KOMMER. Velkommen til &#229;rets generalforsamling i N&#230;ringsforeningen!
LOCATION:Rosenkildehuset
END:VEVENT


END:VCALENDAR



