
BEGIN:VCALENDAR
VERSION:2.0
PRODID:-//MarkedsPartner AS//Umbraco CMS//NO
TIMEZONE-ID:Europe/Oslo
X-WR-TIMEZONE:Europe/Oslo


BEGIN:VEVENT
UID:16088339d0a046eda5e7e91ad8264b98
URL:https://umbraco.naeringsforeningen.no/moeter/arkiv/generalforsamling-og-forberedelser_2024/
ORGANIZER;CN=Ola Normann:MAILTO:ola.normann@markedspartner.no
DTSTAMP:20240213T173000Z
DTSTART:20240213T173000Z
DTEND:20240213T190000Z
LAST-MODIFIED:20240214T080429Z
SUMMARY:Slik gjennomføres en generalforsamling
DESCRIPTION:Bli med på dette kurset for å lære mer om hvordan du forbereder og gjennomfører generalforsamling etter boka.
X-ALT-DESC:Bli med p&#229; dette kurset for &#229; l&#230;re mer om hvordan du forbereder og gjennomf&#248;rer generalforsamling etter boka.
LOCATION:Rosenkildehuset, Stavanger
END:VEVENT


END:VCALENDAR



