
BEGIN:VCALENDAR
VERSION:2.0
PRODID:-//MarkedsPartner AS//Umbraco CMS//NO
TIMEZONE-ID:Europe/Oslo
X-WR-TIMEZONE:Europe/Oslo


BEGIN:VEVENT
UID:ed075095f86846979b36fa6cf8c7dd7a
URL:https://umbraco.naeringsforeningen.no/moeter/arkiv/generalforsamling-i-naeringsforeningen-060525/
ORGANIZER;CN=Ola Normann:MAILTO:ola.normann@markedspartner.no
DTSTAMP:20250506T130000Z
DTSTART:20250506T130000Z
DTEND:20250506T134500Z
LAST-MODIFIED:20250506T134642Z
SUMMARY:Generalforsamling i Næringsforeningen
DESCRIPTION:Velkommen til årets generalforsamling i Næringsforeningen!
Generalforsamlingen gjennomføres digitalt.
X-ALT-DESC:Velkommen til &#229;rets generalforsamling i N&#230;ringsforeningen!
Generalforsamlingen gjennomf&#248;res digitalt.
LOCATION:
END:VEVENT


END:VCALENDAR



