
BEGIN:VCALENDAR
VERSION:2.0
PRODID:-//MarkedsPartner AS//Umbraco CMS//NO
TIMEZONE-ID:Europe/Oslo
X-WR-TIMEZONE:Europe/Oslo


BEGIN:VEVENT
UID:b5ab149bc00f400d88232946f5fc4e88
URL:https://umbraco.naeringsforeningen.no/moeter/arkiv/gamechanger_240221/
ORGANIZER;CN=Ola Normann:MAILTO:ola.normann@markedspartner.no
DTSTAMP:20210224T100000Z
DTSTART:20210224T100000Z
DTEND:20210224T110000Z
LAST-MODIFIED:20221031T120646Z
SUMMARY:Game changer med Christian Rangen: Slik vil du jobbe post korona 
DESCRIPTION:DIGITALKONFERANSE: Koronapandemien har endret vår hverdag og vår jobbsituasjon. Hvordan vil den nye hverdagen bli framover? Hvilke forretningsmodeller blir gjeldende og hvilke øker konkurransekraften? Og hva kreves for å lykkes i framtiden? 
Bli med når Christian Rangen presenterer strategiske forretningsmodeller under og etter korona.
X-ALT-DESC:DIGITALKONFERANSE: Koronapandemien har endret v&#229;r hverdag og v&#229;r jobbsituasjon. Hvordan vil den nye hverdagen bli framover? Hvilke forretningsmodeller blir gjeldende og hvilke &#248;ker konkurransekraften? Og hva kreves for &#229; lykkes i framtiden? 
Bli med n&#229;r Christian Rangen presenterer strategiske forretningsmodeller under og etter korona.
LOCATION:webinar
END:VEVENT


END:VCALENDAR



