
BEGIN:VCALENDAR
VERSION:2.0
PRODID:-//MarkedsPartner AS//Umbraco CMS//NO
TIMEZONE-ID:Europe/Oslo
X-WR-TIMEZONE:Europe/Oslo


BEGIN:VEVENT
UID:46acf05f35034e39b3109648a060cce3
URL:https://umbraco.naeringsforeningen.no/moeter/arkiv/game-changer-torgeir-waterhouse-om-digital-verdiskaping/
ORGANIZER;CN=Ola Normann:MAILTO:ola.normann@markedspartner.no
DTSTAMP:20191113T100000Z
DTSTART:20191113T100000Z
DTEND:20191113T120000Z
LAST-MODIFIED:20221031T114156Z
SUMMARY:Game Changer: Digital verdiskapning
DESCRIPTION:Alt digitaliseres, eller det hevdes at alt digitaliseres. I en datadreven økonomi med muligheter og risikoer endres premissene for å lykkes med data. Der personvern feks var noe noen få drev med er det nå et premiss for å lykkes. Samfunn og næringsliv snakker digitalisering, men gjør vi det? Gjør vi det sikkert og hvorfor er sikkerhet viktigere, mer verdifullt og mer sexy enn digitalisering?
X-ALT-DESC:Alt digitaliseres, eller det hevdes at alt digitaliseres. I en datadreven &#248;konomi med muligheter og risikoer endres premissene for &#229; lykkes med data. Der personvern feks&#160;var noe noen f&#229; drev med er det n&#229; et premiss for &#229; lykkes. Samfunn og n&#230;ringsliv snakker digitalisering, men gj&#248;r vi det? Gj&#248;r vi det sikkert og hvorfor er sikkerhet viktigere, mer verdifullt&#160;og mer sexy enn digitalisering?
LOCATION:Rosenkildehuset
END:VEVENT


END:VCALENDAR



