
BEGIN:VCALENDAR
VERSION:2.0
PRODID:-//MarkedsPartner AS//Umbraco CMS//NO
TIMEZONE-ID:Europe/Oslo
X-WR-TIMEZONE:Europe/Oslo


BEGIN:VEVENT
UID:45a794f62c5949288989e0f7c739d2b9
URL:https://umbraco.naeringsforeningen.no/moeter/arkiv/game-changer-digital-plattform-som-effektiv-forretningsmodell/
ORGANIZER;CN=Ola Normann:MAILTO:ola.normann@markedspartner.no
DTSTAMP:20191017T090000Z
DTSTART:20191017T090000Z
DTEND:20191017T110000Z
LAST-MODIFIED:20221031T113544Z
SUMMARY:Game changer: Digital plattform som effektiv forretningsmodell
DESCRIPTION:I dette møtet ser vi nærmere på hvordan digitale plattformer endrer konkurransesituasjonen og strategien til norske bedrifter.
X-ALT-DESC:I dette m&#248;tet ser vi n&#230;rmere p&#229; hvordan digitale plattformer endrer konkurransesituasjonen og strategien til norske bedrifter.
LOCATION:Rosenkildehuset
END:VEVENT


END:VCALENDAR



