
BEGIN:VCALENDAR
VERSION:2.0
PRODID:-//MarkedsPartner AS//Umbraco CMS//NO
TIMEZONE-ID:Europe/Oslo
X-WR-TIMEZONE:Europe/Oslo


BEGIN:VEVENT
UID:c721d6ca3103499fa0ca7c682a9c4b20
URL:https://umbraco.naeringsforeningen.no/moeter/arkiv/future-proof_261124/
ORGANIZER;CN=Ola Normann:MAILTO:ola.normann@markedspartner.no
DTSTAMP:20241126T070000Z
DTSTART:20241126T070000Z
DTEND:20241126T110000Z
LAST-MODIFIED:20241127T091845Z
SUMMARY:FUTURE-PROOF: Slik møter du økte krav til aktsomhetsvurderinger
DESCRIPTION:Næringslivets menneskerettighetsansvar – hva betyr det i praksis? Bli med når FUTURE-PROOF inviterer til en gratiskonferanse med faglig påfyll og erfaringsutveksling. Blant foredragsholderne er John Eirik Grova fra SpareBank 1 Sør-Norge og Sigrid Brynestad fra Eksfin.
X-ALT-DESC:N&#230;ringslivets menneskerettighetsansvar – hva betyr det i praksis? Bli med n&#229;r FUTURE-PROOF inviterer til en gratiskonferanse med faglig p&#229;fyll og erfaringsutveksling. Blant foredragsholderne er John Eirik Grova fra SpareBank 1 S&#248;r-Norge og Sigrid Brynestad fra Eksfin.
LOCATION:Rosenkildehuset
END:VEVENT


END:VCALENDAR



