
BEGIN:VCALENDAR
VERSION:2.0
PRODID:-//MarkedsPartner AS//Umbraco CMS//NO
TIMEZONE-ID:Europe/Oslo
X-WR-TIMEZONE:Europe/Oslo


BEGIN:VEVENT
UID:c50180830a984a1ea446c7b1c4a4460a
URL:https://umbraco.naeringsforeningen.no/moeter/arkiv/future-proof_200624/
ORGANIZER;CN=Ola Normann:MAILTO:ola.normann@markedspartner.no
DTSTAMP:20240620T070000Z
DTSTART:20240620T070000Z
DTEND:20240620T090000Z
LAST-MODIFIED:20240620T121205Z
SUMMARY:Åpenhetsloven og global handel: Dette kan vi lære av Equinor og andre selskaper
DESCRIPTION:Hvor står næringslivet i Stavanger-regionen to år etter innføringen av åpenhetsloven? Hva krever Equinor og de andre store selskapene av sine leverandører? Hva forventer SR-Bank og finanssektoren av bedrifter de finansierer? Vi inviterer til en FUTURE-PROOF-konferanse der vi diskuterer hvilket ansvar næringslivet har i en urolig og globalisert verden. Vi vil utforske hvordan selskaper kan og bør ivareta menneskerettigheter og oppfylle regulatoriske krav gjennom praktiske tiltak.
X-ALT-DESC:Hvor st&#229;r n&#230;ringslivet i Stavanger-regionen to &#229;r etter innf&#248;ringen av &#229;penhetsloven? Hva krever Equinor og de andre store selskapene av sine leverand&#248;rer? Hva forventer SR-Bank og finanssektoren av bedrifter de finansierer? Vi inviterer til en FUTURE-PROOF-konferanse der vi diskuterer hvilket ansvar n&#230;ringslivet har i en urolig og globalisert verden. Vi vil utforske hvordan selskaper kan og b&#248;r ivareta menneskerettigheter og oppfylle regulatoriske krav gjennom praktiske tiltak.
LOCATION:Finansparken, Bjergsted
END:VEVENT


END:VCALENDAR



