
BEGIN:VCALENDAR
VERSION:2.0
PRODID:-//MarkedsPartner AS//Umbraco CMS//NO
TIMEZONE-ID:Europe/Oslo
X-WR-TIMEZONE:Europe/Oslo


BEGIN:VEVENT
UID:e44f05b680064e978643c743f3926d44
URL:https://umbraco.naeringsforeningen.no/moeter/arkiv/frokostseminar-dusin/
ORGANIZER;CN=Ola Normann:MAILTO:ola.normann@markedspartner.no
DTSTAMP:20250409T053000Z
DTSTART:20250409T053000Z
DTEND:20250409T070000Z
LAST-MODIFIED:20250409T103812Z
SUMMARY:Frokostmøte Jæren: Få til bedre effekt av forbedringsprosesser
DESCRIPTION:Hvordan kan du jobbe systematisk med å forbedre resultatene i bedriften din?
Hva er de største fallgruvene i forbedringsarbeidet, og hvordan unngå dem?
X-ALT-DESC:Hvordan kan du jobbe systematisk med &#229; forbedre resultatene i bedriften din?
Hva er de st&#248;rste fallgruvene i forbedringsarbeidet, og hvordan unng&#229; dem?
LOCATION:M44 administrasjon
END:VEVENT


END:VCALENDAR



