
BEGIN:VCALENDAR
VERSION:2.0
PRODID:-//MarkedsPartner AS//Umbraco CMS//NO
TIMEZONE-ID:Europe/Oslo
X-WR-TIMEZONE:Europe/Oslo


BEGIN:VEVENT
UID:afc0e37218814d3c8ce19aacff6b16fb
URL:https://umbraco.naeringsforeningen.no/moeter/arkiv/frokostmote_jaeren-250924/
ORGANIZER;CN=Ola Normann:MAILTO:ola.normann@markedspartner.no
DTSTAMP:20240925T053000Z
DTSTART:20240925T053000Z
DTEND:20240925T080000Z
LAST-MODIFIED:20240926T062504Z
SUMMARY:Frokostseminar Jæren: Effektivt og trivelig arbeidsmiljø
DESCRIPTION:Et effektivt samarbeid er ikke bare essensielt for å nå målene, men det kan skape et triveligere og mer produktivt arbeidsmiljø. Kjersti Berge Evensen har identifisert tre sentrale tips som kan hjelpe deg med å styrke samarbeidet og oppnå suksess som et team. Bli med på frokostmøtet 25. september og lær mer!
X-ALT-DESC:Et effektivt samarbeid er ikke bare essensielt for &#229; n&#229; m&#229;lene, men det kan skape et triveligere og mer produktivt arbeidsmilj&#248;. Kjersti Berge Evensen har identifisert tre sentrale tips som kan hjelpe deg med &#229; styrke samarbeidet og oppn&#229; suksess som et team. Bli med p&#229; frokostm&#248;tet 25. september og l&#230;r mer!
LOCATION:H&#229;land kj&#248;tt, Klepp
END:VEVENT


END:VCALENDAR



