
BEGIN:VCALENDAR
VERSION:2.0
PRODID:-//MarkedsPartner AS//Umbraco CMS//NO
TIMEZONE-ID:Europe/Oslo
X-WR-TIMEZONE:Europe/Oslo


BEGIN:VEVENT
UID:d8804f72da9443f6be89d0b3a75d7a2b
URL:https://umbraco.naeringsforeningen.no/moeter/arkiv/frihandelsavtale-india/
ORGANIZER;CN=Ola Normann:MAILTO:ola.normann@markedspartner.no
DTSTAMP:20250320T070000Z
DTSTART:20250320T070000Z
DTEND:20250320T100000Z
LAST-MODIFIED:20250320T122302Z
SUMMARY:India – fra 40 prosent til null toll åpner enorme eksportmuligheter
DESCRIPTION:Hvordan kan din bedrift dra nytte av den nye handelsavtalen med India? Bli med når Cristian Valdes Carter og Caspar Fabini fra Innovasjon Norge gir innsikt i eksportmuligheter og vekst. Det indiske markedet representerer store muligheter for bedrifter innen akvakultur, maritim industri, teknologi, sirkulær økonomi og energi, inkludert havvind, hydrogen og waste-to-energy.
X-ALT-DESC:Hvordan kan din bedrift dra nytte av den nye handelsavtalen med India? Bli med n&#229;r Cristian Valdes Carter og Caspar Fabini fra Innovasjon Norge gir innsikt i eksportmuligheter og vekst. Det indiske markedet representerer store muligheter for bedrifter innen akvakultur, maritim industri, teknologi, sirkul&#230;r &#248;konomi og energi, inkludert havvind, hydrogen og waste-to-energy.
LOCATION:Rosenkildehuset
END:VEVENT


END:VCALENDAR



