
BEGIN:VCALENDAR
VERSION:2.0
PRODID:-//MarkedsPartner AS//Umbraco CMS//NO
TIMEZONE-ID:Europe/Oslo
X-WR-TIMEZONE:Europe/Oslo


BEGIN:VEVENT
UID:afe4b54b156445f4b130c3ceb06b24a0
URL:https://umbraco.naeringsforeningen.no/moeter/arkiv/forusmoetet_260422/
ORGANIZER;CN=Ola Normann:MAILTO:ola.normann@markedspartner.no
DTSTAMP:20220426T063000Z
DTSTART:20220426T063000Z
DTEND:20220426T113000Z
LAST-MODIFIED:20221031T122230Z
SUMMARY:FORUSMØTET 2022: Nå er Forus hot igjen
DESCRIPTION:Norges største og viktigste næringsområdet er virkelig blitt hot igjen. Nå ligger mange av de viktigste vekstbedriftene i de nye næringene – side om side med de store energiselskapene på Forus. På Forusmøtet 2022 hos Equinor ser vi på fortid, nåtid og ikke minst framtiden på Forus, sammen med energikommentator Bjørn Vidar Lerøen, Tina Todnem fra Equinor, Magnus Meisal fra Fomo, Tom Tvedt fra Kalberg utvikling og mange flere.
X-ALT-DESC:Norges st&#248;rste og viktigste n&#230;ringsomr&#229;det er virkelig blitt hot igjen. N&#229; ligger mange av de viktigste vekstbedriftene i de nye n&#230;ringene – side om side med de store energiselskapene p&#229; Forus. P&#229; Forusm&#248;tet 2022 hos Equinor ser vi p&#229; fortid, n&#229;tid og ikke minst framtiden p&#229; Forus, sammen med energikommentator Bj&#248;rn Vidar Ler&#248;en, Tina Todnem fra Equinor, Magnus Meisal fra Fomo, Tom Tvedt fra Kalberg utvikling og mange flere.
LOCATION:Equinor Business-senter
END:VEVENT


END:VCALENDAR



