
BEGIN:VCALENDAR
VERSION:2.0
PRODID:-//MarkedsPartner AS//Umbraco CMS//NO
TIMEZONE-ID:Europe/Oslo
X-WR-TIMEZONE:Europe/Oslo


BEGIN:VEVENT
UID:7166f7df530d4abdbdec831b6c0a2b1e
URL:https://umbraco.naeringsforeningen.no/moeter/arkiv/folk-2024/
ORGANIZER;CN=Ola Normann:MAILTO:ola.normann@markedspartner.no
DTSTAMP:20241108T071500Z
DTSTART:20241108T071500Z
DTEND:20241108T133000Z
LAST-MODIFIED:20241108T150703Z
SUMMARY:FOLK 2024
DESCRIPTION:Janove i Kaizers Orchestra sier at det handler om felles verdier, gjennomføring og visjoner. Nylig gjorde han, sammen med resten av bandet, tidenes comeback! Markedsføringen var kraftfull og oppsiktsvekkende. Igjen er vi klare for lederkonferansen FOLK! Som vanlig treffer du Anne Lindmo og en rekke andre dyktige foredragsholdere. Og husk: Dine gamle dager er nå!
X-ALT-DESC:Janove i Kaizers Orchestra sier at det handler om felles verdier, gjennomf&#248;ring og visjoner. Nylig gjorde han, sammen med resten av bandet, tidenes comeback! Markedsf&#248;ringen var kraftfull og oppsiktsvekkende. Igjen er vi klare for lederkonferansen FOLK! Som vanlig treffer du Anne Lindmo og en rekke andre dyktige foredragsholdere. Og husk: Dine gamle dager er n&#229;!
LOCATION:Quality Hotel Residence, Sandnes
END:VEVENT


END:VCALENDAR



