
BEGIN:VCALENDAR
VERSION:2.0
PRODID:-//MarkedsPartner AS//Umbraco CMS//NO
TIMEZONE-ID:Europe/Oslo
X-WR-TIMEZONE:Europe/Oslo


BEGIN:VEVENT
UID:e7871a26964a45609aa2d0531907daea
URL:https://umbraco.naeringsforeningen.no/moeter/arkiv/folk-2023/
ORGANIZER;CN=Ola Normann:MAILTO:ola.normann@markedspartner.no
DTSTAMP:20231103T070000Z
DTSTART:20231103T070000Z
DTEND:20231103T140000Z
LAST-MODIFIED:20240208T072318Z
SUMMARY:FOLK 2023: Verdiskaping og ledelse
DESCRIPTION:Velkommen til FOLK 2023 – en lederkonferanse om dyktige folk, inspirerende folk, annerledestenkende folk og talentfulle folk. FOLK blir ledet av konferansier Anne Lindmo, og hun tar oss med på en dag der du får møte spennende folk og historier.
X-ALT-DESC:Velkommen til FOLK 2023 – en lederkonferanse om dyktige folk, inspirerende folk, annerledestenkende folk og talentfulle folk. FOLK blir ledet av konferansier Anne Lindmo, og hun tar oss med p&#229; en dag der du f&#229;r m&#248;te spennende folk og historier.
LOCATION:Quality Hotel Residence, Sandnes
END:VEVENT


END:VCALENDAR



