
BEGIN:VCALENDAR
VERSION:2.0
PRODID:-//MarkedsPartner AS//Umbraco CMS//NO
TIMEZONE-ID:Europe/Oslo
X-WR-TIMEZONE:Europe/Oslo


BEGIN:VEVENT
UID:59015a2e348c4ce7b0a63e59c4d80987
URL:https://umbraco.naeringsforeningen.no/moeter/arkiv/folk-2022/
ORGANIZER;CN=Ola Normann:MAILTO:ola.normann@markedspartner.no
DTSTAMP:20221104T070000Z
DTSTART:20221104T070000Z
DTEND:20221104T140000Z
LAST-MODIFIED:20240208T072411Z
SUMMARY:FOLK 2022: Verdiskaping og ledelse
DESCRIPTION:Velkommen til FOLK 2022 – en lederkonferanse om dyktige folk, inspirerende folk, annerledestenkende folk og talentfulle folk. FOLK blir ledet av konferansier Anne Lindmo, og hun tar oss med på en dag der temaet er ledelse og verdiskaping. Sikre deg plass og meld deg på nå!
X-ALT-DESC:Velkommen til FOLK 2022 – en lederkonferanse om dyktige folk, inspirerende folk, annerledestenkende folk og talentfulle folk. FOLK blir ledet av konferansier Anne Lindmo, og hun tar oss med p&#229; en dag der temaet er ledelse og verdiskaping. Sikre deg plass og meld deg p&#229; n&#229;!
LOCATION:Sandnes Kulturhus, Mauritz Kartevoldsplass 1
END:VEVENT


END:VCALENDAR



