
BEGIN:VCALENDAR
VERSION:2.0
PRODID:-//MarkedsPartner AS//Umbraco CMS//NO
TIMEZONE-ID:Europe/Oslo
X-WR-TIMEZONE:Europe/Oslo


BEGIN:VEVENT
UID:3ede8032cd294c09a6cd3d7a6e9df151
URL:https://umbraco.naeringsforeningen.no/moeter/arkiv/folk-2021/
ORGANIZER;CN=Ola Normann:MAILTO:ola.normann@markedspartner.no
DTSTAMP:20211112T070000Z
DTSTART:20211112T070000Z
DTEND:20211112T140000Z
LAST-MODIFIED:20221031T123012Z
SUMMARY:FOLK 2021: Kulturbygging og ledelse
DESCRIPTION:Velkommen til FOLK 2021 – en lederkonferanse om dyktige folk, inspirerende folk, annerledestenkende folk og talentfulle folk. FOLKs konferansier Anne Lindmo leder oss gjennom en dag der temaet er hvordan vi bygger god kultur og gjør folk enda bedre.
X-ALT-DESC:Velkommen til FOLK 2021 – en lederkonferanse om dyktige folk, inspirerende folk, annerledestenkende folk og talentfulle folk. FOLKs konferansier Anne Lindmo leder oss gjennom en dag der temaet er hvordan vi bygger god kultur og gj&#248;r folk enda bedre.
LOCATION:Quality Hotel Residence, Sandnes
END:VEVENT


END:VCALENDAR



