
BEGIN:VCALENDAR
VERSION:2.0
PRODID:-//MarkedsPartner AS//Umbraco CMS//NO
TIMEZONE-ID:Europe/Oslo
X-WR-TIMEZONE:Europe/Oslo


BEGIN:VEVENT
UID:649191d52d7b4b41a11e5a4dcdfe6189
URL:https://umbraco.naeringsforeningen.no/moeter/arkiv/folk-2020/
ORGANIZER;CN=Ola Normann:MAILTO:ola.normann@markedspartner.no
DTSTAMP:20201113T070000Z
DTSTART:20201113T070000Z
DTEND:20201113T140000Z
LAST-MODIFIED:20221031T115244Z
SUMMARY:FOLK 2020: Kulturbygging og ledelse. AVLYST
DESCRIPTION:Velkommen til FOLK 2020 – en lederkonferanse om dyktige folk, inspirerende folk, annerledestenkende folk og talentfulle folk. FOLKs konferansier Anne Lindmo leder oss gjennom en dag der temaet er hvordan vi bygger god kultur og gjør folk enda bedre
X-ALT-DESC:Velkommen til FOLK 2020 – en lederkonferanse om dyktige folk, inspirerende folk, annerledestenkende folk og talentfulle folk. FOLKs konferansier Anne Lindmo leder oss gjennom en dag der temaet er hvordan vi bygger god kultur og gj&#248;r folk enda bedre
LOCATION:Quality Hotel Residence, Sandnes
END:VEVENT


END:VCALENDAR



