
BEGIN:VCALENDAR
VERSION:2.0
PRODID:-//MarkedsPartner AS//Umbraco CMS//NO
TIMEZONE-ID:Europe/Oslo
X-WR-TIMEZONE:Europe/Oslo


BEGIN:VEVENT
UID:506161673a004507b4ec52bedb7e425c
URL:https://umbraco.naeringsforeningen.no/moeter/arkiv/foerjulstreff-i-treffpunkt-dalane_301123/
ORGANIZER;CN=Ola Normann:MAILTO:ola.normann@markedspartner.no
DTSTAMP:20231130T180000Z
DTSTART:20231130T180000Z
DTEND:20231130T220000Z
LAST-MODIFIED:20231201T081915Z
SUMMARY:Førjulskonsert i Eigra Vin og Cocktailbar
DESCRIPTION:Tradisjonen tro er tiden inne for førjulstreff i Treffpunkt Dalane med julekonsert, aperitiff og fingermat, og litt faglig påfyll i trivelige, julepynta omgivelser.
X-ALT-DESC:Tradisjonen tro er tiden inne for f&#248;rjulstreff i Treffpunkt Dalane med julekonsert, aperitiff og fingermat, og litt faglig p&#229;fyll i trivelige, julepynta omgivelser.
LOCATION:EIGRA resturant og cocktailbar
END:VEVENT


END:VCALENDAR



