
BEGIN:VCALENDAR
VERSION:2.0
PRODID:-//MarkedsPartner AS//Umbraco CMS//NO
TIMEZONE-ID:Europe/Oslo
X-WR-TIMEZONE:Europe/Oslo


BEGIN:VEVENT
UID:cb9ea9af6cf547db8d93c76810901de5
URL:https://umbraco.naeringsforeningen.no/moeter/arkiv/flyktninger-en-ressurs_220224/
ORGANIZER;CN=Ola Normann:MAILTO:ola.normann@markedspartner.no
DTSTAMP:20240222T083000Z
DTSTART:20240222T083000Z
DTEND:20240222T093000Z
LAST-MODIFIED:20240222T124159Z
SUMMARY:Flyktninger, en ressurs for næringslivet
DESCRIPTION:Dette arrangementet er et informasjonsmøte for å sikre at du blir klar over mulighetene som ligger i å rekruttere medarbeidere som allerede bor i regionen!
X-ALT-DESC:Dette arrangementet er et informasjonsm&#248;te for &#229; sikre at du blir klar over mulighetene som ligger i &#229; rekruttere medarbeidere som allerede bor i regionen!
LOCATION:Grand Hotell Egersund
END:VEVENT


END:VCALENDAR



