
BEGIN:VCALENDAR
VERSION:2.0
PRODID:-//MarkedsPartner AS//Umbraco CMS//NO
TIMEZONE-ID:Europe/Oslo
X-WR-TIMEZONE:Europe/Oslo


BEGIN:VEVENT
UID:aad7714f36014d6f9b51395e4e4e0680
URL:https://umbraco.naeringsforeningen.no/moeter/arkiv/flyktninger-en-ressurs_110424/
ORGANIZER;CN=Ola Normann:MAILTO:ola.normann@markedspartner.no
DTSTAMP:20240411T080000Z
DTSTART:20240411T080000Z
DTEND:20240411T090000Z
LAST-MODIFIED:20240411T121419Z
SUMMARY:Flyktninger – en ressurs for næringslivet i Sola
DESCRIPTION:Er du klar  over mulighetene som ligger i å rekruttere flyktninger og medarbeidere som allerede bor i regionen? Vi har med oss ordfører Janne Stangeland Rege, Øyvind Sakkestad og Ingvild Høyland fra Prosjekt «Flyktninger i arbeid», Erlend Grastveit fra Flyktningetjenesten og Tore Christiansen fra SFF – som sammen vil gi deg en god innføring.
X-ALT-DESC:Er du klar  over mulighetene som ligger i &#229; rekruttere flyktninger og medarbeidere som allerede bor i regionen? Vi har med oss ordf&#248;rer Janne Stangeland Rege, &#216;yvind Sakkestad og Ingvild H&#248;yland fra Prosjekt &#171;Flyktninger i arbeid&#187;, Erlend Grastveit fra Flyktningetjenesten og Tore Christiansen fra SFF – som sammen vil gi deg en god innf&#248;ring.
LOCATION:Sola Kulturhus
END:VEVENT


END:VCALENDAR



