
BEGIN:VCALENDAR
VERSION:2.0
PRODID:-//MarkedsPartner AS//Umbraco CMS//NO
TIMEZONE-ID:Europe/Oslo
X-WR-TIMEZONE:Europe/Oslo


BEGIN:VEVENT
UID:9c56e9c54d8449bfa868f4fff6f1fe73
URL:https://umbraco.naeringsforeningen.no/moeter/arkiv/firmabil-moetet_050424/
ORGANIZER;CN=Ola Normann:MAILTO:ola.normann@markedspartner.no
DTSTAMP:20240405T080000Z
DTSTART:20240405T080000Z
DTEND:20240405T100000Z
LAST-MODIFIED:20240406T071457Z
SUMMARY:Firmabilmøtet: Teknologi, trender og krav
DESCRIPTION:Bilparken elektrifiseres og moderniseres hele tiden. Vi vil sette søkelys på firmabiler, trender og krav som stilles til bedrifter og bilparken deres. Hva kommer og hvordan vil bilene holde seg i pris?
X-ALT-DESC:Bilparken elektrifiseres og moderniseres hele tiden. Vi vil sette s&#248;kelys p&#229; firmabiler, trender og krav som stilles til bedrifter og bilparken deres. Hva kommer og hvordan vil bilene holde seg i pris?
LOCATION:Stavanger Forum
END:VEVENT


END:VCALENDAR



