
BEGIN:VCALENDAR
VERSION:2.0
PRODID:-//MarkedsPartner AS//Umbraco CMS//NO
TIMEZONE-ID:Europe/Oslo
X-WR-TIMEZONE:Europe/Oslo


BEGIN:VEVENT
UID:12921409a0a4407bb9180b31892c8f5b
URL:https://umbraco.naeringsforeningen.no/moeter/arkiv/fagdag-arbeidsrett_271021/
ORGANIZER;CN=Ola Normann:MAILTO:ola.normann@markedspartner.no
DTSTAMP:20211027T070000Z
DTSTART:20211027T070000Z
DTEND:20211027T130000Z
LAST-MODIFIED:20221031T122717Z
SUMMARY:Fagdag Arbeidsrett
DESCRIPTION:Arntzen de Besche og Næringsforeningen i Stavanger-regionen har gleden av å invitere til det årlige arbeidsrettsseminaret i Stavanger. Her tar vi utgangspunkt i arbeidsgiveres daglige utfordringer og problemstillinger. Seminaret er særlig rettet mot personer som jobber innen HR og ledelse, advokater og andre som jobber med arbeidsrettslige spørsmål.
X-ALT-DESC:Arntzen de Besche og N&#230;ringsforeningen i Stavanger-regionen har gleden av &#229; invitere til det &#229;rlige arbeidsrettsseminaret i Stavanger. Her tar vi utgangspunkt i arbeidsgiveres daglige utfordringer og problemstillinger. Seminaret er s&#230;rlig rettet mot personer som jobber innen HR og ledelse, advokater og andre som jobber med arbeidsrettslige sp&#248;rsm&#229;l.
LOCATION:Rosenkildehuset
END:VEVENT


END:VCALENDAR



