
BEGIN:VCALENDAR
VERSION:2.0
PRODID:-//MarkedsPartner AS//Umbraco CMS//NO
TIMEZONE-ID:Europe/Oslo
X-WR-TIMEZONE:Europe/Oslo


BEGIN:VEVENT
UID:e633ba56daab4670a7f2e1f1eb2adf78
URL:https://umbraco.naeringsforeningen.no/moeter/arkiv/fagdag-arbeidsrett-2023/
ORGANIZER;CN=Ola Normann:MAILTO:ola.normann@markedspartner.no
DTSTAMP:20230117T073000Z
DTSTART:20230117T073000Z
DTEND:20230117T140000Z
LAST-MODIFIED:20230119T151201Z
SUMMARY:Fagdag Arbeidsrett 2023
DESCRIPTION:Få med siste nytt innen arbeidsrett. Arntzen de Besche og Næringsforeningen har gleden av å invitere til det årlige arbeidsrettseminaret i Stavanger. Her tar vi utgangspunkt i arbeidsgiveres daglige utfordringer og problemstillinger.
X-ALT-DESC:F&#229; med siste nytt innen arbeidsrett. Arntzen de Besche og N&#230;ringsforeningen har gleden av &#229; invitere til det &#229;rlige arbeidsrettseminaret i Stavanger. Her tar vi utgangspunkt i arbeidsgiveres daglige utfordringer og problemstillinger.
LOCATION:Rosenkildehuset, Strandkaien 6, 4005 Stavanger
END:VEVENT


END:VCALENDAR



