
BEGIN:VCALENDAR
VERSION:2.0
PRODID:-//MarkedsPartner AS//Umbraco CMS//NO
TIMEZONE-ID:Europe/Oslo
X-WR-TIMEZONE:Europe/Oslo


BEGIN:VEVENT
UID:7704ced7b56a48c4abe6669378dec024
URL:https://umbraco.naeringsforeningen.no/moeter/arkiv/facebook_020920/
ORGANIZER;CN=Ola Normann:MAILTO:ola.normann@markedspartner.no
DTSTAMP:20200902T090000Z
DTSTART:20200902T090000Z
DTEND:20200902T113000Z
LAST-MODIFIED:20221031T113814Z
SUMMARY:Slik bruker du Facebook til å øke salget i din bedrift
DESCRIPTION:Lær hvordan du får flere kunder og øker bevisstheten for bedriften din gjennom Facebook.
X-ALT-DESC:L&#230;r hvordan du f&#229;r flere kunder og &#248;ker bevisstheten for bedriften din gjennom Facebook.
LOCATION:Rosenkildehuset
END:VEVENT


END:VCALENDAR



