
BEGIN:VCALENDAR
VERSION:2.0
PRODID:-//MarkedsPartner AS//Umbraco CMS//NO
TIMEZONE-ID:Europe/Oslo
X-WR-TIMEZONE:Europe/Oslo


BEGIN:VEVENT
UID:809ca4b0d6b34310aa82c4601271892a
URL:https://umbraco.naeringsforeningen.no/moeter/arkiv/esg_fra-samtale-til-handling-091122/
ORGANIZER;CN=Ola Normann:MAILTO:ola.normann@markedspartner.no
DTSTAMP:20221109T073000Z
DTSTART:20221109T073000Z
DTEND:20221109T110000Z
LAST-MODIFIED:20221111T131524Z
SUMMARY:ESG: Fra samtale til handling
DESCRIPTION:Den ubehagelige men nødvendige samtalen om ESG
– og hvordan går vi fra samtalen til handling?
X-ALT-DESC:Den ubehagelige men n&#248;dvendige samtalen om ESG
– og hvordan g&#229;r vi fra samtalen til handling?
LOCATION:Rosenkildenhuset
END:VEVENT


END:VCALENDAR



