
BEGIN:VCALENDAR
VERSION:2.0
PRODID:-//MarkedsPartner AS//Umbraco CMS//NO
TIMEZONE-ID:Europe/Oslo
X-WR-TIMEZONE:Europe/Oslo


BEGIN:VEVENT
UID:0b27f1fa8df245439604ba5a06ac0745
URL:https://umbraco.naeringsforeningen.no/moeter/arkiv/esa_frokostmoete_270824/
ORGANIZER;CN=Ola Normann:MAILTO:ola.normann@markedspartner.no
DTSTAMP:20240827T063000Z
DTSTART:20240827T063000Z
DTEND:20240827T090000Z
LAST-MODIFIED:20240828T064842Z
SUMMARY:30 år med EØS og ESA 
DESCRIPTION:Hva har vi lært, og kan det grønne skiftet forenes med industripolitikk? EØS-tilsynet ESA har hatt en nøkkelrolle for å sørge for at EØS-avtalen har vært en stille suksess for folk flest og for norsk næringsliv siden den trådte i kraft i 1994.
X-ALT-DESC:Hva har vi l&#230;rt, og kan det gr&#248;nne skiftet forenes med industripolitikk? E&#216;S-tilsynet ESA har hatt en n&#248;kkelrolle for &#229; s&#248;rge for at E&#216;S-avtalen har v&#230;rt en stille suksess for folk flest og for norsk n&#230;ringsliv siden den tr&#229;dte i kraft i 1994.
LOCATION:Rosenkildehuset
END:VEVENT


END:VCALENDAR



