
BEGIN:VCALENDAR
VERSION:2.0
PRODID:-//MarkedsPartner AS//Umbraco CMS//NO
TIMEZONE-ID:Europe/Oslo
X-WR-TIMEZONE:Europe/Oslo


BEGIN:VEVENT
UID:8593c170e0b74faa9cfdccd07231ba16
URL:https://umbraco.naeringsforeningen.no/moeter/arkiv/equinor-global-supplier-day-2024/
ORGANIZER;CN=Ola Normann:MAILTO:ola.normann@markedspartner.no
DTSTAMP:20240828T120000Z
DTSTART:20240828T120000Z
DTEND:20240828T150000Z
LAST-MODIFIED:20240829T101319Z
SUMMARY:Equinor Global Supplier Day 2024
DESCRIPTION:This year’s topic is «Delivering on our strategy». We will give an update on our project development portfolio and activities going forward in oil and gas, low carbon solutions and renewables.
X-ALT-DESC:This year’s topic is &#171;Delivering on our strategy&#187;. We will give an update on our project development portfolio and activities going forward in oil and gas, low carbon solutions and renewables.
LOCATION:IMI Forum, Mastrafjorden A Hall 1
END:VEVENT


END:VCALENDAR



