
BEGIN:VCALENDAR
VERSION:2.0
PRODID:-//MarkedsPartner AS//Umbraco CMS//NO
TIMEZONE-ID:Europe/Oslo
X-WR-TIMEZONE:Europe/Oslo


BEGIN:VEVENT
UID:90c21a07952b4d6f947c3de14bca7cc0
URL:https://umbraco.naeringsforeningen.no/moeter/arkiv/epim-jqs_260520/
ORGANIZER;CN=Ola Normann:MAILTO:ola.normann@markedspartner.no
DTSTAMP:20200526T130000Z
DTSTART:20200526T130000Z
DTEND:20200526T140000Z
LAST-MODIFIED:20221031T121109Z
SUMMARY:Webinar: EPIM JQS – felles leverandørregister for norsk sokkel
DESCRIPTION:EPIM JQS er et leverandørregister og en tjeneste som støtter kvalifisering av leverandører på norsk sokkel. I dette webinaret får du nyttig informasjon om bruk og anvendelse av registeret.
X-ALT-DESC:EPIM JQS er et leverand&#248;rregister og en tjeneste som st&#248;tter kvalifisering av leverand&#248;rer p&#229; norsk sokkel. I dette webinaret f&#229;r du nyttig informasjon om bruk og anvendelse av registeret.
LOCATION:Webinar
END:VEVENT


END:VCALENDAR



