
BEGIN:VCALENDAR
VERSION:2.0
PRODID:-//MarkedsPartner AS//Umbraco CMS//NO
TIMEZONE-ID:Europe/Oslo
X-WR-TIMEZONE:Europe/Oslo


BEGIN:VEVENT
UID:4dfd1d3d62cc41b9bcc5ea3490206ce6
URL:https://umbraco.naeringsforeningen.no/moeter/arkiv/energy-for-the-future_020920/
ORGANIZER;CN=Ola Normann:MAILTO:ola.normann@markedspartner.no
DTSTAMP:20200902T163000Z
DTSTART:20200902T163000Z
DTEND:20200902T183000Z
LAST-MODIFIED:20221031T113817Z
SUMMARY:Energy for the future
DESCRIPTION:How could we best use all the knowledge in the petroleum sector to improve the energy picture in a global setting?
X-ALT-DESC:How could we best use all the knowledge in the petroleum sector to improve the energy picture in a global setting?
LOCATION:Rosenkildehuset
END:VEVENT


END:VCALENDAR



