
BEGIN:VCALENDAR
VERSION:2.0
PRODID:-//MarkedsPartner AS//Umbraco CMS//NO
TIMEZONE-ID:Europe/Oslo
X-WR-TIMEZONE:Europe/Oslo


BEGIN:VEVENT
UID:8fd315c428ed4264b49c137a6790efa2
URL:https://umbraco.naeringsforeningen.no/moeter/arkiv/energioptimalisering-120625/
ORGANIZER;CN=Ola Normann:MAILTO:ola.normann@markedspartner.no
DTSTAMP:20250612T090000Z
DTSTART:20250612T090000Z
DTEND:20250612T110000Z
LAST-MODIFIED:20250626T064105Z
SUMMARY:Enkle grep for bedriftene: Energiforbruket kan reduseres med 30 prosent
DESCRIPTION:Med enkle grep, kan et stort antall næringsbygg og offentlige bygg i Stavanger-regionen med svak energimerking redusere energiforbruket med 30 prosent. På dette møtet får du vite hvordan.
X-ALT-DESC:Med enkle grep, kan et stort antall n&#230;ringsbygg og offentlige bygg i Stavanger-regionen med svak energimerking redusere energiforbruket med 30 prosent. P&#229; dette m&#248;tet f&#229;r du vite hvordan.
LOCATION:Rosenkildehuset
END:VEVENT


END:VCALENDAR



