
BEGIN:VCALENDAR
VERSION:2.0
PRODID:-//MarkedsPartner AS//Umbraco CMS//NO
TIMEZONE-ID:Europe/Oslo
X-WR-TIMEZONE:Europe/Oslo


BEGIN:VEVENT
UID:609181cc615b4289b757eea4a23a56a7
URL:https://umbraco.naeringsforeningen.no/moeter/arkiv/energihovedstadkonferansen_2025/
ORGANIZER;CN=Ola Normann:MAILTO:ola.normann@markedspartner.no
DTSTAMP:20250129T073000Z
DTSTART:20250129T073000Z
DTEND:20250129T130000Z
LAST-MODIFIED:20250129T191823Z
SUMMARY:Energihovedstadkonferansen 
DESCRIPTION:Aktiviteten på norsk sokkel og leverandørindustrien er meget høy – nå og de neste årene, men hva med årene etter 2027?
X-ALT-DESC:Aktiviteten p&#229; norsk sokkel og leverand&#248;rindustrien er meget h&#248;y – n&#229; og de neste &#229;rene, men hva med &#229;rene etter 2027?
LOCATION:Scandic Forus
END:VEVENT


END:VCALENDAR



