
BEGIN:VCALENDAR
VERSION:2.0
PRODID:-//MarkedsPartner AS//Umbraco CMS//NO
TIMEZONE-ID:Europe/Oslo
X-WR-TIMEZONE:Europe/Oslo


BEGIN:VEVENT
UID:1f44911c4d0844ed8204d4d59bceee95
URL:https://umbraco.naeringsforeningen.no/moeter/arkiv/energifrokost_sep2023/
ORGANIZER;CN=Ola Normann:MAILTO:ola.normann@markedspartner.no
DTSTAMP:20230927T063000Z
DTSTART:20230927T063000Z
DTEND:20230927T080000Z
LAST-MODIFIED:20230927T085833Z
SUMMARY:Energifrokost: Kraftunderskuddet – hvordan løser vi det?
DESCRIPTION:Det er på tide å skape fremtidens lavutslipps energinæringer og arbeidsplasser. Møteserien i 2023 avdekker og setter søkelys på kritiske aspekter av energiutviklingen, en must-attend for alle som brenner for fremtiden.
X-ALT-DESC:Det er p&#229; tide &#229; skape fremtidens lavutslipps energin&#230;ringer og arbeidsplasser. M&#248;teserien i 2023 avdekker og setter s&#248;kelys p&#229; kritiske aspekter av energiutviklingen, en must-attend for alle som brenner for fremtiden.
LOCATION:Rosenkildehuset, Strandkaien 6, 4005 Stavanger
END:VEVENT


END:VCALENDAR



