
BEGIN:VCALENDAR
VERSION:2.0
PRODID:-//MarkedsPartner AS//Umbraco CMS//NO
TIMEZONE-ID:Europe/Oslo
X-WR-TIMEZONE:Europe/Oslo


BEGIN:VEVENT
UID:8caf8fa950fa4d86b6b9e87c31a626ce
URL:https://umbraco.naeringsforeningen.no/moeter/arkiv/energifrokost_nov2023/
ORGANIZER;CN=Ola Normann:MAILTO:ola.normann@markedspartner.no
DTSTAMP:20231129T070000Z
DTSTART:20231129T070000Z
DTEND:20231129T090000Z
LAST-MODIFIED:20231129T101120Z
SUMMARY:Energifrokost: Havbunnsmineraler
DESCRIPTION:Hva er avgjørende for å styrke Energihovedstaden og støtte energitransformasjonen? Hvordan bidra til å utvikle – ikke avvikle – den viktige petroleumsindustrien, og hva skal til for å skape nye lavutslipps energinæringer og arbeidsplasser?
Møteserien i 2023 viser fram og diskuterer mange av aspektene med energiutviklingen og er for alle interesserte.
X-ALT-DESC:Hva er avgj&#248;rende for &#229; styrke Energihovedstaden og st&#248;tte energitransformasjonen? Hvordan bidra til &#229; utvikle – ikke avvikle – den viktige petroleumsindustrien, og hva skal til for &#229; skape nye lavutslipps energin&#230;ringer og arbeidsplasser?
M&#248;teserien i 2023 viser fram og diskuterer mange av aspektene med energiutviklingen og er for alle interesserte.
LOCATION:Rosenkildehuset
END:VEVENT


END:VCALENDAR



