
BEGIN:VCALENDAR
VERSION:2.0
PRODID:-//MarkedsPartner AS//Umbraco CMS//NO
TIMEZONE-ID:Europe/Oslo
X-WR-TIMEZONE:Europe/Oslo


BEGIN:VEVENT
UID:bb9c0b2c32124bf58254a5cc6fa9d2e2
URL:https://umbraco.naeringsforeningen.no/moeter/arkiv/energifrokost_mars2023/
ORGANIZER;CN=Ola Normann:MAILTO:ola.normann@markedspartner.no
DTSTAMP:20230307T070000Z
DTSTART:20230307T070000Z
DTEND:20230307T090000Z
LAST-MODIFIED:20230314T100230Z
SUMMARY:Energifrokost: De store offshore-prosjektene
DESCRIPTION:De store offshore-prosjektene er selve motoren i regionens økonomi. Hvert av prosjektene skaper tusenvis – ja, titusenvis – av årsverk i direkte innsats og ringvirkninger. Det ypperste av teknologi og ekspertise mobiliseres for å sørge for energi til Europa med lavest mulig utslipp. På dette møtet går vi gjennom olje- og gassprosjekter på norsk sokkel som vedtatt de siste to årene, og som nå er underveis.
X-ALT-DESC:De store offshore-prosjektene er selve motoren i regionens &#248;konomi. Hvert av prosjektene skaper tusenvis – ja, titusenvis – av &#229;rsverk i direkte innsats og ringvirkninger. Det ypperste av teknologi og ekspertise mobiliseres for &#229; s&#248;rge for energi til Europa med lavest mulig utslipp. P&#229; dette m&#248;tet g&#229;r vi gjennom olje- og gassprosjekter p&#229; norsk sokkel som vedtatt de siste to &#229;rene, og som n&#229; er underveis.
LOCATION:Rosenkildehuset, Strandkaien 6, 4005 Stavanger
END:VEVENT


END:VCALENDAR



