
BEGIN:VCALENDAR
VERSION:2.0
PRODID:-//MarkedsPartner AS//Umbraco CMS//NO
TIMEZONE-ID:Europe/Oslo
X-WR-TIMEZONE:Europe/Oslo


BEGIN:VEVENT
UID:49da4eaa33eb40ba99bc47f736048399
URL:https://umbraco.naeringsforeningen.no/moeter/arkiv/energifrokost_mars-2024/
ORGANIZER;CN=Ola Normann:MAILTO:ola.normann@markedspartner.no
DTSTAMP:20240321T070000Z
DTSTART:20240321T070000Z
DTEND:20240321T101500Z
LAST-MODIFIED:20240321T134729Z
SUMMARY:ENERGIFROKOST:  Den store prosjekt-paraden 
DESCRIPTION:Operatørene på norsk sokkel anslår investeringene innen offshore olje og gass til å bli på 244 milliarder kroner i 2024. Hvordan er utviklingen for hvert av de konkrete prosjektene? Framdrift, teknologi og kontrakter – hva skjer?
X-ALT-DESC:Operat&#248;rene p&#229; norsk sokkel ansl&#229;r investeringene innen offshore olje og gass til &#229; bli p&#229; 244 milliarder kroner i 2024. Hvordan er utviklingen for hvert av de konkrete prosjektene? Framdrift,&#160;teknologi og kontrakter – hva skjer?
LOCATION:Rosenkildehuset
END:VEVENT


END:VCALENDAR



