
BEGIN:VCALENDAR
VERSION:2.0
PRODID:-//MarkedsPartner AS//Umbraco CMS//NO
TIMEZONE-ID:Europe/Oslo
X-WR-TIMEZONE:Europe/Oslo


BEGIN:VEVENT
UID:31da9ea8358746d5932fbd3e0cf8350b
URL:https://umbraco.naeringsforeningen.no/moeter/arkiv/energifrokost_juni2023/
ORGANIZER;CN=Ola Normann:MAILTO:ola.normann@markedspartner.no
DTSTAMP:20230609T060000Z
DTSTART:20230609T060000Z
DTEND:20230609T073000Z
LAST-MODIFIED:20230609T083602Z
SUMMARY:Energifrokost: Digitalisering og forbedringer
DESCRIPTION:Hva er avgjørende for å styrke Energihovedstaden og støtte energitransformasjonen? Hvordan bidra til å utvikle – ikke avvikle – den viktige petroleumsindustrien, og hva skal til for å skape nye lavutslipps energinæringer og arbeidsplasser?
Møteserien i 2023 viser fram og diskuterer mange av aspektene med energiutviklingen og er for alle interesserte.
X-ALT-DESC:Hva er avgj&#248;rende for &#229; styrke Energihovedstaden og st&#248;tte energitransformasjonen? Hvordan bidra til &#229; utvikle – ikke avvikle – den viktige petroleumsindustrien, og hva skal til for &#229; skape nye lavutslipps energin&#230;ringer og arbeidsplasser?
M&#248;teserien i 2023 viser fram og diskuterer mange av aspektene med energiutviklingen og er for alle interesserte.
LOCATION:Rosenkildehuset
END:VEVENT


END:VCALENDAR



