
BEGIN:VCALENDAR
VERSION:2.0
PRODID:-//MarkedsPartner AS//Umbraco CMS//NO
TIMEZONE-ID:Europe/Oslo
X-WR-TIMEZONE:Europe/Oslo


BEGIN:VEVENT
UID:0141e7586baa4f9b9da3d7fc7797d4f5
URL:https://umbraco.naeringsforeningen.no/moeter/arkiv/energifrokost_april2023/
ORGANIZER;CN=Ola Normann:MAILTO:ola.normann@markedspartner.no
DTSTAMP:20230428T060000Z
DTSTART:20230428T060000Z
DTEND:20230428T080000Z
LAST-MODIFIED:20230429T173420Z
SUMMARY:Energifrokost: Karbonlagring blir industri
DESCRIPTION:Uten karbonfangst og lagring (CCS) er det neppe mulig å få ned utslippene nok til å nå internasjonale klimamål. Denne gangen på Energifrokost er CCS tema.
X-ALT-DESC:Uten karbonfangst og lagring (CCS) er det neppe mulig &#229; f&#229; ned utslippene nok til &#229; n&#229; internasjonale klimam&#229;l. Denne gangen p&#229; Energifrokost er CCS tema.
LOCATION:Rosenkildehuset
END:VEVENT


END:VCALENDAR



