
BEGIN:VCALENDAR
VERSION:2.0
PRODID:-//MarkedsPartner AS//Umbraco CMS//NO
TIMEZONE-ID:Europe/Oslo
X-WR-TIMEZONE:Europe/Oslo


BEGIN:VEVENT
UID:c49b343470b24615878d97b661b67a85
URL:https://umbraco.naeringsforeningen.no/moeter/arkiv/energifrokost_2025-2/
ORGANIZER;CN=Ola Normann:MAILTO:ola.normann@markedspartner.no
DTSTAMP:20250430T060000Z
DTSTART:20250430T060000Z
DTEND:20250430T090000Z
LAST-MODIFIED:20250506T104158Z
SUMMARY:Energifrokost: Konkurransekraft på norsk sokkel
DESCRIPTION:Alle snakker om hvordan sikre og forbedre konkurranseevnen til norsk sokkel. Det handler om norsk sokkels framtid. Hvordan opprettholde investeringer og produksjon fram mot 2035 – samtidig som utslippene halveres? Hvordan skal vi klare det uten at kostnadene øker enda mer?
X-ALT-DESC:Alle snakker om hvordan sikre og forbedre konkurranseevnen til norsk sokkel. Det handler om norsk sokkels framtid. Hvordan opprettholde investeringer og produksjon fram mot 2035 – samtidig som utslippene halveres? Hvordan skal vi klare det uten at kostnadene &#248;ker enda mer?
LOCATION:Rosenkildehuset
END:VEVENT


END:VCALENDAR



