
BEGIN:VCALENDAR
VERSION:2.0
PRODID:-//MarkedsPartner AS//Umbraco CMS//NO
TIMEZONE-ID:Europe/Oslo
X-WR-TIMEZONE:Europe/Oslo


BEGIN:VEVENT
UID:bf96ab1352ca488385b0f3bba79d6482
URL:https://umbraco.naeringsforeningen.no/moeter/arkiv/energifrokost_2025-1/
ORGANIZER;CN=Ola Normann:MAILTO:ola.normann@markedspartner.no
DTSTAMP:20250401T060000Z
DTSTART:20250401T060000Z
DTEND:20250401T093000Z
LAST-MODIFIED:20250401T123105Z
SUMMARY:ENERGIFROKOST: Den store prosjektparaden 
DESCRIPTION:Offshore-prosjektene er selve motoren i regionens økonomi. Hver av utbyggingene skaper tusenvis – ja, titusenvis – av årsverk i direkte innsats og ringvirkninger. Det ypperste av teknologi og ekspertise mobiliseres for å sørge for energi til Europa med lavest mulig utslipp.
X-ALT-DESC:Offshore-prosjektene er selve motoren i regionens &#248;konomi. Hver av utbyggingene skaper tusenvis – ja, titusenvis – av &#229;rsverk i direkte innsats og ringvirkninger. Det ypperste av teknologi og ekspertise mobiliseres for &#229; s&#248;rge for energi til Europa med lavest mulig utslipp.
LOCATION:Rosenkildehuset
END:VEVENT


END:VCALENDAR



