
BEGIN:VCALENDAR
VERSION:2.0
PRODID:-//MarkedsPartner AS//Umbraco CMS//NO
TIMEZONE-ID:Europe/Oslo
X-WR-TIMEZONE:Europe/Oslo


BEGIN:VEVENT
UID:bb07b78cca2c444b894443a40faec054
URL:https://umbraco.naeringsforeningen.no/moeter/arkiv/energifrokost_2024-3/
ORGANIZER;CN=Ola Normann:MAILTO:ola.normann@markedspartner.no
DTSTAMP:20240923T060000Z
DTSTART:20240923T060000Z
DTEND:20240923T080000Z
LAST-MODIFIED:20250506T084651Z
SUMMARY:Energifrokost: Biogass
DESCRIPTION:Biogass kan være et energipolitisk kinderegg. Biogass er fornybar og utslippsfri energi fra blant annet husdyrgjødsel og matavfall. Energifrokosten om Biogass gir oversikt og innsikt på et spennende felt hvor vår region kan være i teten.
X-ALT-DESC:Biogass kan v&#230;re et energipolitisk kinderegg. Biogass er fornybar og utslippsfri energi fra blant annet husdyrgj&#248;dsel og matavfall. Energifrokosten om Biogass gir oversikt og innsikt p&#229; et spennende felt hvor v&#229;r region kan v&#230;re i teten.
LOCATION:Rosenkildehuset
END:VEVENT


END:VCALENDAR



