
BEGIN:VCALENDAR
VERSION:2.0
PRODID:-//MarkedsPartner AS//Umbraco CMS//NO
TIMEZONE-ID:Europe/Oslo
X-WR-TIMEZONE:Europe/Oslo


BEGIN:VEVENT
UID:4eec266444b6472c922e71f5e91a23e4
URL:https://umbraco.naeringsforeningen.no/moeter/arkiv/energiaaret-2020/
ORGANIZER;CN=Ola Normann:MAILTO:ola.normann@markedspartner.no
DTSTAMP:20200206T070000Z
DTSTART:20200206T070000Z
DTEND:20200206T103000Z
LAST-MODIFIED:20221031T115924Z
SUMMARY:Energiåret 2020
DESCRIPTION:Hvordan er utsiktene for norsk sokkel i 2020? Hva sier «Norwegian Oilfield Services Analysis 2019» om status i bransjen nå? Møt den nye direktøren i Oljedirektoratet, Ingrid Sølvberg og bli med når vi tar pulsen på bransjen og ser på mulighetene fremover.
X-ALT-DESC:Hvordan er utsiktene for norsk sokkel i 2020? Hva sier &#171;Norwegian Oilfield Services Analysis 2019&#187; om status i bransjen n&#229;? M&#248;t den nye direkt&#248;ren i Oljedirektoratet, Ingrid S&#248;lvberg og bli med n&#229;r vi tar pulsen p&#229; bransjen og ser p&#229; mulighetene fremover.
LOCATION:Rosenkildehuset
END:VEVENT


END:VCALENDAR



