
BEGIN:VCALENDAR
VERSION:2.0
PRODID:-//MarkedsPartner AS//Umbraco CMS//NO
TIMEZONE-ID:Europe/Oslo
X-WR-TIMEZONE:Europe/Oslo


BEGIN:VEVENT
UID:4702494554eb49cb8be0548b8040ae15
URL:https://umbraco.naeringsforeningen.no/moeter/arkiv/emballasje_270521/
ORGANIZER;CN=Ola Normann:MAILTO:ola.normann@markedspartner.no
DTSTAMP:20210527T063000Z
DTSTART:20210527T063000Z
DTEND:20210527T074500Z
LAST-MODIFIED:20221031T121807Z
SUMMARY:Emballasjens dilemma
DESCRIPTION:DIGITALKONFERANSE: Emballasjen har mange formål. Det skal selge produktet, bidra til holdbarhet og sørge for at produktene kommer frem i god behold. Et dilemma er kombinasjonen av økt bruk av emballasje i flere ledd og behov for reduserte utslipp. Det krever nytenkning.
X-ALT-DESC:DIGITALKONFERANSE: Emballasjen har mange form&#229;l. Det skal selge produktet, bidra til holdbarhet og s&#248;rge for at produktene kommer frem i god behold. Et dilemma er kombinasjonen av &#248;kt bruk av emballasje i flere ledd og behov for reduserte utslipp. Det krever nytenkning.
LOCATION:Online
END:VEVENT


END:VCALENDAR



