
BEGIN:VCALENDAR
VERSION:2.0
PRODID:-//MarkedsPartner AS//Umbraco CMS//NO
TIMEZONE-ID:Europe/Oslo
X-WR-TIMEZONE:Europe/Oslo


BEGIN:VEVENT
UID:2e316c57a8bc49a095c59ce7b44d8567
URL:https://umbraco.naeringsforeningen.no/moeter/arkiv/elnett-2022_020622/
ORGANIZER;CN=Ola Normann:MAILTO:ola.normann@markedspartner.no
DTSTAMP:20220602T063000Z
DTSTART:20220602T063000Z
DTEND:20220602T083000Z
LAST-MODIFIED:20221031T121847Z
SUMMARY:Hvordan kutte utslipp i et usikkert energimarked
DESCRIPTION:MØTE AVLYST!
Hva kan din bedrift gjøre for å ta i bruk ny teknologi til lokal strømproduksjon, smart styring av strøm, transport og kutte egne klimautslipp? Det er temaet for dette medlemsmøtet. Det er lite som kan stoppe framtiden, den kommer – gjør du?
X-ALT-DESC:M&#216;TE AVLYST!
Hva kan din bedrift gj&#248;re for &#229; ta i bruk ny teknologi til lokal str&#248;mproduksjon, smart styring av str&#248;m, transport og kutte egne klimautslipp? Det er temaet for dette medlemsm&#248;tet. Det er lite som kan stoppe framtiden, den kommer – gj&#248;r du?
LOCATION:Rosenkildehuset
END:VEVENT


END:VCALENDAR



