
BEGIN:VCALENDAR
VERSION:2.0
PRODID:-//MarkedsPartner AS//Umbraco CMS//NO
TIMEZONE-ID:Europe/Oslo
X-WR-TIMEZONE:Europe/Oslo


BEGIN:VEVENT
UID:5d89b8ad669b41f8ac5a6146bad4ae0f
URL:https://umbraco.naeringsforeningen.no/moeter/arkiv/elektrifisering_220921/
ORGANIZER;CN=Ola Normann:MAILTO:ola.normann@markedspartner.no
DTSTAMP:20211028T063000Z
DTSTART:20211028T063000Z
DTEND:20211028T090000Z
LAST-MODIFIED:20221031T122742Z
SUMMARY:Elektrifisering: Tilbud og etterspørsel
DESCRIPTION:Hvordan skal tilgang på kraft bli en konkurransefordel? Hvordan tiltrekke oss nye grønne arbeidsplasser? Hvordan bruker vi kraften på en best mulig måte?
X-ALT-DESC:Hvordan skal tilgang p&#229; kraft bli en konkurransefordel? Hvordan tiltrekke oss nye gr&#248;nne arbeidsplasser? Hvordan bruker vi kraften p&#229; en best mulig m&#229;te?
LOCATION:Rosenkildehuset
END:VEVENT


END:VCALENDAR



