
BEGIN:VCALENDAR
VERSION:2.0
PRODID:-//MarkedsPartner AS//Umbraco CMS//NO
TIMEZONE-ID:Europe/Oslo
X-WR-TIMEZONE:Europe/Oslo


BEGIN:VEVENT
UID:97ae207182ae41e3b6cc17cac23626df
URL:https://umbraco.naeringsforeningen.no/moeter/arkiv/ekstra-live-ntp-hvor-skal-det-bygges/
ORGANIZER;CN=Ola Normann:MAILTO:ola.normann@markedspartner.no
DTSTAMP:20240322T130000Z
DTSTART:20240322T130000Z
DTEND:20240322T133000Z
LAST-MODIFIED:20240326T095511Z
SUMMARY:EKSTRA LIVE: NTP – hvor skal det bygges?
DESCRIPTION:SE SENDINGEN: I dag kommer Nasjonal transportplan (NTP). Hvem er vinnerne, hvem er taperne og hvor skal det bygges i vår region? Tormod Andreassen har med seg Anja Hovland, ordfører i Eigersund, Bernt Jæger fra næringsforeningen i Haugesund, Øyvind Halleraker fra Hordfast og gir deg en oppdatering for hva dette betyr for deg og din bedrift.
X-ALT-DESC:SE SENDINGEN: I dag kommer Nasjonal transportplan (NTP). Hvem er vinnerne, hvem er taperne og hvor skal det bygges i v&#229;r region? Tormod Andreassen har med seg Anja Hovland, ordf&#248;rer i Eigersund, Bernt J&#230;ger fra n&#230;ringsforeningen i Haugesund, &#216;yvind Halleraker fra Hordfast og gir deg en oppdatering for hva dette betyr for deg og din bedrift.
LOCATION:Digitalt
END:VEVENT


END:VCALENDAR



