
BEGIN:VCALENDAR
VERSION:2.0
PRODID:-//MarkedsPartner AS//Umbraco CMS//NO
TIMEZONE-ID:Europe/Oslo
X-WR-TIMEZONE:Europe/Oslo


BEGIN:VEVENT
UID:4cecaa7a3bfa4985a3ad683c06f3a943
URL:https://umbraco.naeringsforeningen.no/moeter/arkiv/ekstra-live-hva-betyr-statsbudsjettet-for-naeringslivet/
ORGANIZER;CN=Ola Normann:MAILTO:ola.normann@markedspartner.no
DTSTAMP:20231006T120000Z
DTSTART:20231006T120000Z
DTEND:20231006T124500Z
LAST-MODIFIED:20231006T143241Z
SUMMARY:EKSTRA LIVE: Hva betyr statsbudsjettet for næringslivet?
DESCRIPTION:SE SENDINGEN: Vårt ekspertpanel diskuterer statsbudsjettets betydning for næringslivet. Vi har med oss tidligere næringsminister Iselin Nybø, Merete Eik fra Bate, Kyrre Knudsen fra SpareBank 1 SR-Bank – i tillegg til Ulf Rosenberg og Tormod Andreassen fra Næringsforeningen.
X-ALT-DESC:SE SENDINGEN: V&#229;rt ekspertpanel diskuterer statsbudsjettets betydning for n&#230;ringslivet. Vi har med oss tidligere n&#230;ringsminister Iselin Nyb&#248;, Merete Eik fra Bate, Kyrre Knudsen fra SpareBank 1 SR-Bank – i tillegg til Ulf Rosenberg og Tormod Andreassen fra N&#230;ringsforeningen.
LOCATION:Digitalt
END:VEVENT


END:VCALENDAR



