
BEGIN:VCALENDAR
VERSION:2.0
PRODID:-//MarkedsPartner AS//Umbraco CMS//NO
TIMEZONE-ID:Europe/Oslo
X-WR-TIMEZONE:Europe/Oslo


BEGIN:VEVENT
UID:8884cc95db2e4a18bff7c950523d5073
URL:https://umbraco.naeringsforeningen.no/moeter/arkiv/ekstra-live-dette-er-viktig-for-stavanger-regionen/
ORGANIZER;CN=Ola Normann:MAILTO:ola.normann@markedspartner.no
DTSTAMP:20241007T120000Z
DTSTART:20241007T120000Z
DTEND:20241007T123000Z
LAST-MODIFIED:20241007T182419Z
SUMMARY:EKSTRA LIVE: Dette er viktig for Stavanger-regionen
DESCRIPTION:SE SENDINGEN: Vi gir deg det du må vite om Statsbudsjettet for 2025 i en ekstrasending på nett. Vi har med oss Kyrre M. Knudsen, sjeføkonom i Sparebank 1 Sør-Norge, bystyrerepresentant Hilde Fahret Born (Ap), prosjektleder Ulf Rosenberg i Energihovedstaden – samt næringspolitisk leder i Næringsforeningen, Tormod Andreassen.
X-ALT-DESC:SE SENDINGEN: Vi gir deg det du m&#229; vite om Statsbudsjettet for 2025 i en ekstrasending p&#229; nett. Vi har med oss Kyrre M. Knudsen, sjef&#248;konom i Sparebank 1 S&#248;r-Norge, bystyrerepresentant Hilde Fahret Born (Ap), prosjektleder Ulf Rosenberg i Energihovedstaden – samt n&#230;ringspolitisk leder i N&#230;ringsforeningen, Tormod Andreassen.
LOCATION:Digitalt
END:VEVENT


END:VCALENDAR



